BEGIN:VCALENDAR
VERSION:2.0
PRODID:-//American School Way - ECPv6.15.18//NONSGML v1.0//EN
CALSCALE:GREGORIAN
METHOD:PUBLISH
X-WR-CALNAME:American School Way
X-ORIGINAL-URL:https://americanschoolway.edu.co
X-WR-CALDESC:Eventos para American School Way
REFRESH-INTERVAL;VALUE=DURATION:PT1H
X-Robots-Tag:noindex
X-PUBLISHED-TTL:PT1H
BEGIN:VTIMEZONE
TZID:America/New_York
BEGIN:DAYLIGHT
TZOFFSETFROM:-0500
TZOFFSETTO:-0400
TZNAME:EDT
DTSTART:20250309T070000
END:DAYLIGHT
BEGIN:STANDARD
TZOFFSETFROM:-0400
TZOFFSETTO:-0500
TZNAME:EST
DTSTART:20251102T060000
END:STANDARD
BEGIN:DAYLIGHT
TZOFFSETFROM:-0500
TZOFFSETTO:-0400
TZNAME:EDT
DTSTART:20260308T070000
END:DAYLIGHT
BEGIN:STANDARD
TZOFFSETFROM:-0400
TZOFFSETTO:-0500
TZNAME:EST
DTSTART:20261101T060000
END:STANDARD
BEGIN:DAYLIGHT
TZOFFSETFROM:-0500
TZOFFSETTO:-0400
TZNAME:EDT
DTSTART:20270314T070000
END:DAYLIGHT
BEGIN:STANDARD
TZOFFSETFROM:-0400
TZOFFSETTO:-0500
TZNAME:EST
DTSTART:20271107T060000
END:STANDARD
END:VTIMEZONE
BEGIN:VEVENT
DTSTART;TZID=America/New_York:20260420T090000
DTEND;TZID=America/New_York:20260420T100000
DTSTAMP:20260420T031354
CREATED:20250915T164943Z
LAST-MODIFIED:20250915T164943Z
UID:10000869-1776675600-1776679200@americanschoolway.edu.co
SUMMARY:Cultural Identity
DESCRIPTION:
URL:https://americanschoolway.edu.co/event/cultural-identity/2026-04-20/
LOCATION:PASEO VILLA DEL RIO\, Dg 57c Sur # 62-60\, Bogotá\, Cundinamarca\, Colombia
END:VEVENT
BEGIN:VEVENT
DTSTART;TZID=America/New_York:20260420T104000
DTEND;TZID=America/New_York:20260420T120000
DTSTAMP:20260420T031354
CREATED:20250915T165831Z
LAST-MODIFIED:20250915T165831Z
UID:10000922-1776681600-1776686400@americanschoolway.edu.co
SUMMARY:Pronunciation Journey
DESCRIPTION:
URL:https://americanschoolway.edu.co/event/pronunciation-journey/2026-04-20/
LOCATION:PASEO VILLA DEL RIO\, Dg 57c Sur # 62-60\, Bogotá\, Cundinamarca\, Colombia
END:VEVENT
BEGIN:VEVENT
DTSTART;TZID=America/New_York:20260420T182000
DTEND;TZID=America/New_York:20260420T190000
DTSTAMP:20260420T031354
CREATED:20250915T170056Z
LAST-MODIFIED:20250915T170338Z
UID:10001028-1776709200-1776711600@americanschoolway.edu.co
SUMMARY:Pronunciation Journey
DESCRIPTION:
URL:https://americanschoolway.edu.co/event/pronunciation-journey-2/2026-04-20/
LOCATION:PASEO VILLA DEL RIO\, Dg 57c Sur # 62-60\, Bogotá\, Cundinamarca\, Colombia
END:VEVENT
END:VCALENDAR